BEGIN:VCALENDAR
VERSION:2.0
PRODID:icalendar-ruby
CALSCALE:GREGORIAN
METHOD:PUBLISH
BEGIN:VEVENT
DTSTAMP:20260422T001743Z
UID:5-1056699@osceolafaithfellowship.org
DTSTART:20260531T150000Z
DTEND:20260531T160000Z
CLASS:PUBLIC
CREATED:20260421T172404
DESCRIPTION:Sunday Worship
LAST-MODIFIED:20260421T172404
LOCATION:
SUMMARY:Sunday Worship
URL;VALUE=URI:https://www.osceolafaithfellowship.org/events/sunday-worship/
 2026-05-31
END:VEVENT
END:VCALENDAR
