BEGIN:VCALENDAR
VERSION:2.0
PRODID:icalendar-ruby
CALSCALE:GREGORIAN
METHOD:PUBLISH
BEGIN:VEVENT
DTSTAMP:20260422T092343Z
UID:5-1057677@osceolafaithfellowship.org
DTSTART:20260719T150000Z
DTEND:20260719T160000Z
CLASS:PUBLIC
CREATED:20260421T200247
DESCRIPTION:Sunday Worship
LAST-MODIFIED:20260421T200247
LOCATION:
SUMMARY:Sunday Worship
URL;VALUE=URI:https://www.osceolafaithfellowship.org/events/sunday-worship/
 2026-07-19
END:VEVENT
END:VCALENDAR
