BEGIN:VCALENDAR
VERSION:2.0
PRODID:icalendar-ruby
CALSCALE:GREGORIAN
METHOD:PUBLISH
BEGIN:VEVENT
DTSTAMP:20260422T171451Z
UID:5-1059627@osceolafaithfellowship.org
DTSTART:20260830T150000Z
DTEND:20260830T160000Z
CLASS:PUBLIC
CREATED:20260422T100246
DESCRIPTION:Sunday Worship
LAST-MODIFIED:20260422T100246
LOCATION:
SUMMARY:Sunday Worship
URL;VALUE=URI:https://www.osceolafaithfellowship.org/events/sunday-worship/
 2026-08-30
END:VEVENT
END:VCALENDAR
