BEGIN:VCALENDAR
VERSION:2.0
PRODID:icalendar-ruby
CALSCALE:GREGORIAN
METHOD:PUBLISH
BEGIN:VEVENT
DTSTAMP:20260422T220745Z
UID:5-1061576@osceolafaithfellowship.org
DTSTART:20260927T150000Z
DTEND:20260927T160000Z
CLASS:PUBLIC
CREATED:20260422T155303
DESCRIPTION:Sunday Worship
LAST-MODIFIED:20260422T155303
LOCATION:
SUMMARY:Sunday Worship
URL;VALUE=URI:https://www.osceolafaithfellowship.org/events/sunday-worship/
 2026-09-27
END:VEVENT
END:VCALENDAR
